BEGIN:VCALENDAR
VERSION:2.0
PRODID:-//Les Long Prés - ECPv6.15.17.1//NONSGML v1.0//EN
CALSCALE:GREGORIAN
METHOD:PUBLISH
X-WR-CALNAME:Les Long Prés
X-ORIGINAL-URL:https://www.leslongspres.fr
X-WR-CALDESC:Évènements pour Les Long Prés
REFRESH-INTERVAL;VALUE=DURATION:PT1H
X-Robots-Tag:noindex
X-PUBLISHED-TTL:PT1H
BEGIN:VTIMEZONE
TZID:Europe/Paris
BEGIN:DAYLIGHT
TZOFFSETFROM:+0100
TZOFFSETTO:+0200
TZNAME:CEST
DTSTART:20250330T010000
END:DAYLIGHT
BEGIN:STANDARD
TZOFFSETFROM:+0200
TZOFFSETTO:+0100
TZNAME:CET
DTSTART:20251026T010000
END:STANDARD
BEGIN:DAYLIGHT
TZOFFSETFROM:+0100
TZOFFSETTO:+0200
TZNAME:CEST
DTSTART:20260329T010000
END:DAYLIGHT
BEGIN:STANDARD
TZOFFSETFROM:+0200
TZOFFSETTO:+0100
TZNAME:CET
DTSTART:20261025T010000
END:STANDARD
BEGIN:DAYLIGHT
TZOFFSETFROM:+0100
TZOFFSETTO:+0200
TZNAME:CEST
DTSTART:20270328T010000
END:DAYLIGHT
BEGIN:STANDARD
TZOFFSETFROM:+0200
TZOFFSETTO:+0100
TZNAME:CET
DTSTART:20271031T010000
END:STANDARD
END:VTIMEZONE
BEGIN:VEVENT
DTSTART;TZID=Europe/Paris:20260402T140000
DTEND;TZID=Europe/Paris:20260611T153000
DTSTAMP:20260420T131006
CREATED:20260316T124928Z
LAST-MODIFIED:20260316T124928Z
UID:3004-1775138400-1781191800@www.leslongspres.fr
SUMMARY:Café philo
DESCRIPTION:Un rendez-vous mensuel et convivial pour échanger et penser ensemble \nLes prochaines dates :\n2 avril 2026 au Centre Les Longs Prés\n7 mai 2026 à l’ESC Simone Iff (Pic Vert Café)\n11 juin 2026 au Centre Les Longs Prés \n\nGratuit\, réservation conseillée :\nCentre Socio-Culturel Les Longs Prés – 02.99.38.43.86\nCentre Social de Maurepas – 02.99.27.48.27
URL:https://www.leslongspres.fr/evenements/cafe-philo-2/
LOCATION:Centre Socio Culturel Les Longs Prés\, 1 Rue des Longs Prés\, Rennes\, 35000\, France
ATTACH;FMTTYPE=image/jpeg:https://www.leslongspres.fr/wp-content/uploads/2026/03/soiree-jeux-4.jpg
END:VEVENT
BEGIN:VEVENT
DTSTART;TZID=Europe/Paris:20260519T074500
DTEND;TZID=Europe/Paris:20260519T180000
DTSTAMP:20260420T131006
CREATED:20260408T123200Z
LAST-MODIFIED:20260408T145217Z
UID:3134-1779176700-1779213600@www.leslongspres.fr
SUMMARY:Sortie culturelle Lamballe
DESCRIPTION:Au programme de la journée \n10h00 – Visite guidée du Haras\n12h00 – Déjeuner libre\n14h00 – Visite guidée du musée Mathurin Méheut\n15h30 – Visite de Lamballe \n\nSi problèmes le jour de la visite\, merci de prévenir Ferrero Etienne 06.41.40.17.41 \nRendez – vous 7h45 à à la piscine des Gayeulles\nDépart 8h00 – Retour vers 18h00 \n\nTarif adhérent 51€ / carte Sortir 45€\nNon adhérent 56€ / carte Sortir 50€\nInscription non adhérent à partir du 30 avril\n30 personnes\nSur inscription à l’accueil
URL:https://www.leslongspres.fr/evenements/sortie-culturelle-lamballe/
LOCATION:Centre Socio Culturel Les Longs Prés\, 1 Rue des Longs Prés\, Rennes\, 35000\, France
ATTACH;FMTTYPE=image/jpeg:https://www.leslongspres.fr/wp-content/uploads/2024/10/poster-group-people-with-blue-yellow-background-scaled.jpg
END:VEVENT
BEGIN:VEVENT
DTSTART;TZID=Europe/Paris:20260521T143000
DTEND;TZID=Europe/Paris:20260521T163000
DTSTAMP:20260420T131006
CREATED:20260416T083418Z
LAST-MODIFIED:20260416T083758Z
UID:3165-1779373800-1779381000@www.leslongspres.fr
SUMMARY:Conférence Les Rencontres
DESCRIPTION:Conférence animée par Evelyne et Fernand Nedjar \nCes femmes et ces hommes ont forgé l’histoire de la Lorraine. \nPar leurs talents\, leurs innovations\, leurs aventures\, ces personnalités d’exception ont offert un grand destin à leur région de naissance ou d’adoption. \nEpoustouflante\, la vie de ces écrivains\, peintres\, scientifiques\, militaires\, artistes et politiciens lorrains\, se lit comme un roman. \nSur inscription – Gratuit
URL:https://www.leslongspres.fr/evenements/conference-les-rencontres/
LOCATION:Centre Socio Culturel Les Longs Prés\, 1 Rue des Longs Prés\, Rennes\, 35000\, France
ATTACH;FMTTYPE=image/jpeg:https://www.leslongspres.fr/wp-content/uploads/2026/04/Insta-4.jpg
END:VEVENT
END:VCALENDAR